BEGIN:VCALENDAR
VERSION:2.0
PRODID:-//Society of the War of 1812 in the State of Maryland - ECPv6.15.20//NONSGML v1.0//EN
CALSCALE:GREGORIAN
METHOD:PUBLISH
X-WR-CALNAME:Society of the War of 1812 in the State of Maryland
X-ORIGINAL-URL:https://md1812.org
X-WR-CALDESC:Events for Society of the War of 1812 in the State of Maryland
REFRESH-INTERVAL;VALUE=DURATION:PT1H
X-Robots-Tag:noindex
X-PUBLISHED-TTL:PT1H
BEGIN:VTIMEZONE
TZID:America/New_York
BEGIN:DAYLIGHT
TZOFFSETFROM:-0500
TZOFFSETTO:-0400
TZNAME:EDT
DTSTART:20250309T070000
END:DAYLIGHT
BEGIN:STANDARD
TZOFFSETFROM:-0400
TZOFFSETTO:-0500
TZNAME:EST
DTSTART:20251102T060000
END:STANDARD
BEGIN:DAYLIGHT
TZOFFSETFROM:-0500
TZOFFSETTO:-0400
TZNAME:EDT
DTSTART:20260308T070000
END:DAYLIGHT
BEGIN:STANDARD
TZOFFSETFROM:-0400
TZOFFSETTO:-0500
TZNAME:EST
DTSTART:20261101T060000
END:STANDARD
BEGIN:DAYLIGHT
TZOFFSETFROM:-0500
TZOFFSETTO:-0400
TZNAME:EDT
DTSTART:20270314T070000
END:DAYLIGHT
BEGIN:STANDARD
TZOFFSETFROM:-0400
TZOFFSETTO:-0500
TZNAME:EST
DTSTART:20271107T060000
END:STANDARD
END:VTIMEZONE
BEGIN:VEVENT
DTSTART;TZID=America/New_York:20260224T180000
DTEND;TZID=America/New_York:20260224T200000
DTSTAMP:20260423T152840
CREATED:20260202T164535Z
LAST-MODIFIED:20260202T175210Z
UID:1992-1771956000-1771963200@md1812.org
SUMMARY:February 2026 Executive Meeting
DESCRIPTION:Join us for our February 2026 meeting of the executive committee. President Bill Emmerich will hear committee reports\, review old business\, and entertain new business. This is a members-only meeting. \nThis meeting will also be streamed via Zoom: \nTopic: 2026 War of 1812 Executive Meeting\nTime: Feb 24\, 2026 06:00 PM Eastern Time (US and Canada)\nJoin Zoom Meeting
URL:https://md1812.org/event/february-2026-executive-meeting/
LOCATION:Edenwald\, 800 Southerly Rd.\, Towson\, MD\, 21286\, United States
CATEGORIES:Executive Committee Meeting
END:VEVENT
END:VCALENDAR